BEGIN:VCALENDAR
VERSION:2.0
PRODID:-//Torsås företagscentrum - ECPv6.15.20//NONSGML v1.0//EN
CALSCALE:GREGORIAN
METHOD:PUBLISH
X-ORIGINAL-URL:https://torsasforetagscentrum.se
X-WR-CALDESC:Händelser för Torsås företagscentrum
REFRESH-INTERVAL;VALUE=DURATION:PT1H
X-Robots-Tag:noindex
X-PUBLISHED-TTL:PT1H
BEGIN:VTIMEZONE
TZID:Europe/Stockholm
BEGIN:DAYLIGHT
TZOFFSETFROM:+0100
TZOFFSETTO:+0200
TZNAME:CEST
DTSTART:20250330T010000
END:DAYLIGHT
BEGIN:STANDARD
TZOFFSETFROM:+0200
TZOFFSETTO:+0100
TZNAME:CET
DTSTART:20251026T010000
END:STANDARD
BEGIN:DAYLIGHT
TZOFFSETFROM:+0100
TZOFFSETTO:+0200
TZNAME:CEST
DTSTART:20260329T010000
END:DAYLIGHT
BEGIN:STANDARD
TZOFFSETFROM:+0200
TZOFFSETTO:+0100
TZNAME:CET
DTSTART:20261025T010000
END:STANDARD
BEGIN:DAYLIGHT
TZOFFSETFROM:+0100
TZOFFSETTO:+0200
TZNAME:CEST
DTSTART:20270328T010000
END:DAYLIGHT
BEGIN:STANDARD
TZOFFSETFROM:+0200
TZOFFSETTO:+0100
TZNAME:CET
DTSTART:20271031T010000
END:STANDARD
END:VTIMEZONE
BEGIN:VEVENT
DTSTART;TZID=Europe/Stockholm:20260508T113000
DTEND;TZID=Europe/Stockholm:20260508T130000
DTSTAMP:20260425T151740
CREATED:20260126T190639Z
LAST-MODIFIED:20260126T190639Z
UID:509-1778239800-1778245200@torsasforetagscentrum.se
SUMMARY:Företagslunch
DESCRIPTION:Trump versus Torsås\nVälkommen på TFC företagslunch och träffa dina företagskollegor i kommunen. \nUnder lunchen får vi lyssna på Anton Rubertsson\, Placeringsrådgivare på Handelsbanken Private Banking som berättar om hur Trump och världsekonomin påverkar företagen i Torsås. \nEfter lunchen kan de som så önskar delta på vårt årsmöte. \nNyfiken på vem som anmält sig till lunchen? Se gästlistan. \nVarmt välkommen!
URL:https://torsasforetagscentrum.se/event/foretagslunch-9/
LOCATION:Dalskärs Sjökrog\, Dalskärsvägen 11\, Bergkvara\, 385 42\, Sverige
ORGANIZER;CN="Tors%C3%A5s F%C3%B6retagscentrum":MAILTO:info@torsasforetagscentrum.se
END:VEVENT
END:VCALENDAR